0.0145454545454545
0.000000
0.000000
-0.0145454545454545
-101.092632640492
47.5880012512207
