0.0145454545454545
0.000000
0.000000
-0.0145454545454545
-88.9296382557262
37.3629989624023
