0.0145454545454545
0.000000
0.000000
-0.0145454545454545
-107.992634166371
38.6349983215332
