0.0145454545454545
0.000000
0.000000
-0.0145454545454545
-84.6376384388317
41.023998260498
