0.0145454545454545
0.000000
0.000000
-0.0145454545454545
-102.391636241566
33.7040004730225
