0.0145454545454545
0.000000
0.000000
-0.0145454545454545
-111.061634410511
35.8729991912842
