0.0145454545454545
0.000000
0.000000
-0.0145454545454545
-94.9446376453746
45.6119995117188
