0.0145454545454545
0.000000
0.000000
-0.0145454545454545
-79.8036388050426
42.826000213623
