0.0145454545454545
0.000000
0.000000
-0.0145454545454545
-96.573635448109
50.8370018005371
