0.0145454545454545
0.000000
0.000000
-0.0145454545454545
-94.3476375233043
36.2799987792969
