0.0145454545454545
0.000000
0.000000
-0.0145454545454545
-104.643635142933
33.2730007171631
