0.0145454545454545
0.000000
0.000000
-0.0145454545454545
-126.040638316761
42.5009994506836
