0.0145454545454545
0.000000
0.000000
-0.0145454545454545
-109.169636119496
45.1520004272461
