0.0145454545454545
0.000000
0.000000
-0.0145454545454545
-101.87463795055
31.7840003967285
