0.0145454545454545
0.000000
0.000000
-0.0145454545454545
-86.2236369739879
45.4129981994629
