0.0145454545454545
0.000000
0.000000
-0.0145454545454545
-91.1336330067028
37.1720008850098
