0.0145454545454545
0.000000
0.000000
-0.0145454545454545
-80.3486369739879
46.201000213623
