0.0145454545454545
0.000000
0.000000
-0.0145454545454545
-95.5546382557262
47.8230018615723
