0.0145454545454545
0.000000
0.000000
-0.0145454545454545
-84.7766383777965
29.6110000610352
