0.0145454545454545
0.000000
0.000000
-0.0145454545454545
-106.072635997425
39.2330017089844
