0.0145454545454545
0.000000
0.000000
-0.0145454545454545
-81.3716395984996
40.984001159668
