0.0145454545454546
0.000000
0.000000
-0.0145454545454546
-150.664631236683
63.4620018005371
