0.0145454545454546
0.000000
0.000000
-0.0145454545454546
-155.712635387074
64.726001739502
