0.0145454545454546
0.000000
0.000000
-0.0145454545454546
-169.656635631214
68.5120010375977
