0.0145454545454545
0.000000
0.000000
-0.0145454545454545
-111.186634410511
39.1500015258789
