0.0145454545454545
0.000000
0.000000
-0.0145454545454545
-102.776638377797
49.4560012817383
