0.0145454545454546
0.000000
0.000000
-0.0145454545454546
-166.237629283558
64.7929992675781
