0.00903511740944604
0.000000
0.000000
-0.00903511740944604
-96.106019190008
39.7151403392445
