0.00916739723899146
0.000000
0.000000
-0.00916739723899146
-84.4686350458318
40.8274513660778
