0.00881910844282672
0.000000
0.000000
-0.00881910844282672
-92.5143240772594
37.7658464882591
