0.00925265225497161
0.000000
0.000000
-0.00925265225497161
-80.2491661765359
41.5148515181108
