0.00907809170809661
0.000000
0.000000
-0.00907809170809661
-86.031892006614
40.082935777144
