0.00834791703657672
0.000000
0.000000
-0.00834791703657672
-84.2022046314586
32.7755024788596
