0.00761363636363636
0.000000
0.000000
-0.00761363636363636
-157.852290316495
21.1879427545721
