0.00826338334517047
0.000000
0.000000
-0.00826338334517047
-97.5538856922497
31.7402988503196
