0.00981775457208807
0.000000
0.000000
-0.00981775457208807
-88.4854156632857
45.5889746371183
