0.00900998202237214
0.000000
0.000000
-0.00900998202237214
-82.9724916908958
39.4972383256392
