0.00843364368785511
0.000000
0.000000
-0.00843364368785511
-87.9848759183017
33.7750342767889
