0.00850893887606536
0.000000
0.000000
-0.00850893887606536
-92.5324283530495
34.6157025007768
