0.00955275102095172
0.000000
0.000000
-0.00955275102095172
-107.667048686634
43.7742305824973
