0.00982652143998578
0.000000
0.000000
-0.00982652143998578
-81.6800426829945
45.646381447532
