0.00967215798117896
0.000000
0.000000
-0.00967215798117896
-74.0348118036443
44.6110086475719
