0.00932112260298297
0.000000
0.000000
-0.00932112260298297
-124.399677928578
42.0516481850364
