0.00916237571022729
0.000000
0.000000
-0.00916237571022729
-90.4681305486506
40.7750704539906
