0.00897804953835229
0.000000
0.000000
-0.00897804953835229
-100.816924188787
39.2054757274281
