0.0100213068181818
0.000000
0.000000
-0.0100213068181818
-105.830383772417
46.8758487215909
