0.00881913618607953
0.000000
0.000000
-0.00881913618607953
-99.9193311656605
37.7538530661843
