0.0081270252574574
0.000000
0.000000
-0.0081270252574574
-84.8360444918546
29.9358683568781
