0.00866002863103693
0.000000
0.000000
-0.00866002863103693
-120.228680711226
36.1951786526767
