0.0084269298206676
0.000000
0.000000
-0.0084269298206676
-103.015862246427
33.6841925256903
